BEGIN:VCALENDAR
VERSION:2.0
PRODID:-//Tukios.com/
BEGIN:VEVENT
UID:8e60d33b-8f45-4954-b442-fbff42b2a2aa@www.lakesidememorialchapel.com
DTSTAMP:20260422T191913Z
DTSTART:20260515T150000Z
DTEND:20260515T160000Z
SUMMARY:Memorial Service
DESCRIPTION:
URL:https://www.lakesidememorialchapel.com/obituaries/verna-johnson
LOCATION:Siloa Lutheran Church 218 East River Street  Ontonagon MI 49953
GEO:46.8708044;-89.3108713
END:VEVENT
END:VCALENDAR