BEGIN:VCALENDAR
VERSION:2.0
PRODID:-//Tukios.com/
BEGIN:VEVENT
UID:03c041c2-3960-4d67-b744-59f73cf4aad4@www.lakesidememorialchapel.com
DTSTAMP:20260422T191914Z
DTSTART:20260515T140000Z
DTEND:20260515T150000Z
SUMMARY:Visitation
DESCRIPTION:
URL:https://www.lakesidememorialchapel.com/obituaries/verna-johnson
LOCATION:Siloa Lutheran Church 218 East River Street  Ontonagon MI 49953
GEO:46.8708044;-89.3108713
END:VEVENT
END:VCALENDAR