BEGIN:VCALENDAR
VERSION:2.0
PRODID:-//Tukios.com/
BEGIN:VEVENT
UID:190f22ae-57e7-47d6-9ed0-8722313ca215@www.lakesidememorialchapel.com
DTSTAMP:20260422T180506Z
DTSTART:20260509T170000Z
DTEND:20260509T210000Z
SUMMARY:Reception
DESCRIPTION:
URL:https://www.lakesidememorialchapel.com/obituaries/michael-henning
LOCATION:Kimball Community Center 5708 Center Drive  Hurley WI 54534
GEO:46.4726358;-90.2153377
END:VEVENT
END:VCALENDAR