BEGIN:VCALENDAR
VERSION:2.0
PRODID:-//Tukios.com/
BEGIN:VEVENT
UID:44a43e09-09d0-4366-9f4d-f210e3b49bad@www.lakesidememorialchapel.com
DTSTAMP:20260422T191914Z
DTSTART:20260528T150000Z
DTEND:20260528T160000Z
SUMMARY:Graveside Service
DESCRIPTION:
URL:https://www.lakesidememorialchapel.com/obituaries/lucille-beling
LOCATION:Lakeside Cemetery Cemetery Road  Wakefield MI 49968
GEO:46.4684122;-89.9485012
END:VEVENT
END:VCALENDAR