BEGIN:VCALENDAR
VERSION:2.0
PRODID:-//Tukios.com/
BEGIN:VEVENT
UID:e583cfb4-cc38-4f0c-89f7-a28443cf90cf@www.lakesidememorialchapel.com
DTSTAMP:20260422T180506Z
DTSTART:20260519T150000Z
DTEND:20260519T160000Z
SUMMARY:Funeral Service
DESCRIPTION:
URL:https://www.lakesidememorialchapel.com/obituaries/lorraine-andrashie
LOCATION:Our Lady of Peace Catholic Church 108 South Marquette Street  
	Ironwood MI 49938
GEO:46.456822;-90.1645057
END:VEVENT
END:VCALENDAR