BEGIN:VCALENDAR
VERSION:2.0
PRODID:-//Tukios.com/
BEGIN:VEVENT
UID:88f12a33-098b-476c-95c1-42197185e633@www.lakesidememorialchapel.com
DTSTAMP:20260422T191913Z
DTSTART:20260522T150000Z
DTEND:20260522T160000Z
SUMMARY:Memorial Service
DESCRIPTION:
URL:https://www.lakesidememorialchapel.com/obituaries/joyce-pikka
LOCATION:All Saints Lutheran Church 1202 Putnam Street  Wakefield MI 
	49968
GEO:46.477987;-89.9322642
END:VEVENT
END:VCALENDAR